Package: ROSeq Version: 1.18.0 Command: /Library/Frameworks/R.framework/Resources/bin/R CMD check --install=check:ROSeq.install-out.txt --library=/Library/Frameworks/R.framework/Resources/library --no-vignettes --timings ROSeq_1.18.0.tar.gz StartedAt: 2025-04-01 08:17:36 -0400 (Tue, 01 Apr 2025) EndedAt: 2025-04-01 08:26:03 -0400 (Tue, 01 Apr 2025) EllapsedTime: 506.3 seconds RetCode: 0 Status: WARNINGS CheckDir: ROSeq.Rcheck Warnings: 1