Package: ROCpAI Version: 1.18.0 Command: /home/biocbuild/R/R/bin/R CMD check --install=check:ROCpAI.install-out.txt --library=/home/biocbuild/R/R/site-library --no-vignettes --timings ROCpAI_1.18.0.tar.gz StartedAt: 2025-04-01 10:08:00 -0000 (Tue, 01 Apr 2025) EndedAt: 2025-04-01 10:10:41 -0000 (Tue, 01 Apr 2025) EllapsedTime: 161.2 seconds RetCode: 0 Status: OK CheckDir: ROCpAI.Rcheck Warnings: 0