Package: ROCpAI Version: 1.18.0 Command: F:\biocbuild\bbs-3.20-bioc\R\bin\R.exe CMD INSTALL ROCpAI StartedAt: 2025-03-31 16:31:26 -0400 (Mon, 31 Mar 2025) EndedAt: 2025-03-31 16:31:53 -0400 (Mon, 31 Mar 2025) EllapsedTime: 26.2 seconds RetCode: 0 Status: OK