Package: ROCpAI Version: 1.18.0 Command: /Library/Frameworks/R.framework/Resources/bin/R CMD INSTALL ROCpAI StartedAt: 2025-03-31 16:05:55 -0400 (Mon, 31 Mar 2025) EndedAt: 2025-03-31 16:06:36 -0400 (Mon, 31 Mar 2025) EllapsedTime: 41.5 seconds RetCode: 0 Status: OK