Package: ROCpAI Version: 1.18.0 Command: rm -rf ROCpAI.buildbin-libdir && mkdir ROCpAI.buildbin-libdir && /Users/biocbuild/BBS/utils/build-universal.sh ROCpAI_1.18.0.tar.gz /Library/Frameworks/R.framework/Resources/bin/R ROCpAI.buildbin-libdir StartedAt: 2025-04-02 16:02:59 -0400 (Wed, 02 Apr 2025) EndedAt: 2025-04-02 16:03:24 -0400 (Wed, 02 Apr 2025) EllapsedTime: 25.0 seconds RetCode: 0 Status: OK PackageFile: ROCpAI_1.18.0.tgz PackageFileSize: 465.4 KiB