Package: ROC Version: 1.82.0 Command: /home/biocbuild/R/R/bin/R CMD INSTALL ROC StartedAt: 2025-03-31 20:16:24 -0000 (Mon, 31 Mar 2025) EndedAt: 2025-03-31 20:16:43 -0000 (Mon, 31 Mar 2025) EllapsedTime: 18.4 seconds RetCode: 0 Status: OK