Package: ROC Version: 1.82.0 Command: chmod a+r ROC -R && F:\biocbuild\bbs-3.20-bioc\R\bin\R.exe CMD build --keep-empty-dirs --no-resave-data ROC StartedAt: 2025-03-31 21:31:35 -0400 (Mon, 31 Mar 2025) EndedAt: 2025-03-31 21:31:47 -0400 (Mon, 31 Mar 2025) EllapsedTime: 12.0 seconds RetCode: 0 Status: OK PackageFile: ROC_1.82.0.tar.gz PackageFileSize: 251.2 KiB