Package: ROC Version: 1.82.0 Command: /Library/Frameworks/R.framework/Resources/bin/R CMD check --install=check:ROC.install-out.txt --library=/Library/Frameworks/R.framework/Resources/library --no-vignettes --timings ROC_1.82.0.tar.gz StartedAt: 2025-04-02 06:41:08 -0400 (Wed, 02 Apr 2025) EndedAt: 2025-04-02 06:41:34 -0400 (Wed, 02 Apr 2025) EllapsedTime: 26.0 seconds RetCode: 0 Status: OK CheckDir: ROC.Rcheck Warnings: 0