Package: RNAmodR.ML Version: 1.20.0 Command: F:\biocbuild\bbs-3.20-bioc\R\bin\R.exe CMD INSTALL RNAmodR.ML StartedAt: 2025-03-31 16:21:49 -0400 (Mon, 31 Mar 2025) EndedAt: 2025-03-31 16:23:05 -0400 (Mon, 31 Mar 2025) EllapsedTime: 76.4 seconds RetCode: 0 Status: OK