Package: RNAmodR.ML Version: 1.20.0 Command: chmod a+r RNAmodR.ML -R && F:\biocbuild\bbs-3.20-bioc\R\bin\R.exe CMD build --keep-empty-dirs --no-resave-data RNAmodR.ML StartedAt: 2025-03-31 21:30:41 -0400 (Mon, 31 Mar 2025) EndedAt: 2025-03-31 21:35:03 -0400 (Mon, 31 Mar 2025) EllapsedTime: 261.8 seconds RetCode: 0 Status: OK PackageFile: RNAmodR.ML_1.20.0.tar.gz PackageFileSize: 1.273 MiB