Package: RNAmodR.AlkAnilineSeq Version: 1.20.0 Command: /home/biocbuild/bbs-3.20-bioc/R/bin/R CMD check --install=check:RNAmodR.AlkAnilineSeq.install-out.txt --library=/home/biocbuild/bbs-3.20-bioc/R/site-library --timings RNAmodR.AlkAnilineSeq_1.20.0.tar.gz StartedAt: 2025-04-01 01:36:54 -0400 (Tue, 01 Apr 2025) EndedAt: 2025-04-01 01:45:12 -0400 (Tue, 01 Apr 2025) EllapsedTime: 498.6 seconds RetCode: 0 Status: OK CheckDir: RNAmodR.AlkAnilineSeq.Rcheck Warnings: 0