Package: RNAmodR.AlkAnilineSeq Version: 1.20.0 Command: /Library/Frameworks/R.framework/Resources/bin/R CMD build --keep-empty-dirs --no-resave-data RNAmodR.AlkAnilineSeq StartedAt: 2025-04-01 06:24:10 -0400 (Tue, 01 Apr 2025) EndedAt: 2025-04-01 06:26:55 -0400 (Tue, 01 Apr 2025) EllapsedTime: 164.5 seconds RetCode: 0 Status: OK PackageFile: RNAmodR.AlkAnilineSeq_1.20.0.tar.gz PackageFileSize: 1.04 MiB