Package: RNAdecay Version: 1.26.0 Command: /Library/Frameworks/R.framework/Resources/bin/R CMD INSTALL RNAdecay StartedAt: 2025-03-31 15:12:03 -0400 (Mon, 31 Mar 2025) EndedAt: 2025-03-31 15:25:01 -0400 (Mon, 31 Mar 2025) EllapsedTime: 777.7 seconds RetCode: 0 Status: OK