Package: RNAdecay Version: 1.26.0 Command: rm -rf RNAdecay.buildbin-libdir && mkdir RNAdecay.buildbin-libdir && /Users/biocbuild/BBS/utils/build-universal.sh RNAdecay_1.26.0.tar.gz /Library/Frameworks/R.framework/Resources/bin/R RNAdecay.buildbin-libdir StartedAt: 2025-04-01 12:36:46 -0400 (Tue, 01 Apr 2025) EndedAt: 2025-04-01 12:50:29 -0400 (Tue, 01 Apr 2025) EllapsedTime: 823.6 seconds RetCode: 0 Status: OK PackageFile: RNAdecay_1.26.0.tgz PackageFileSize: 5.945 MiB