Package: RNAdecay Version: 1.26.0 Command: /Library/Frameworks/R.framework/Resources/bin/R CMD INSTALL RNAdecay StartedAt: 2025-03-31 15:32:32 -0400 (Mon, 31 Mar 2025) EndedAt: 2025-03-31 15:38:16 -0400 (Mon, 31 Mar 2025) EllapsedTime: 344.1 seconds RetCode: 0 Status: OK