Package: RNAdecay Version: 1.26.0 Command: /Library/Frameworks/R.framework/Resources/bin/R CMD check --install=check:RNAdecay.install-out.txt --library=/Library/Frameworks/R.framework/Resources/library --no-vignettes --timings RNAdecay_1.26.0.tar.gz StartedAt: 2025-04-02 06:29:11 -0400 (Wed, 02 Apr 2025) EndedAt: 2025-04-02 06:29:47 -0400 (Wed, 02 Apr 2025) EllapsedTime: 35.1 seconds RetCode: 0 Status: OK CheckDir: RNAdecay.Rcheck Warnings: 0