Package: RNAdecay Version: 1.26.0 Command: rm -rf RNAdecay.buildbin-libdir && mkdir RNAdecay.buildbin-libdir && /Users/biocbuild/BBS/utils/build-universal.sh RNAdecay_1.26.0.tar.gz /Library/Frameworks/R.framework/Resources/bin/R RNAdecay.buildbin-libdir StartedAt: 2025-04-02 16:00:50 -0400 (Wed, 02 Apr 2025) EndedAt: 2025-04-02 16:07:36 -0400 (Wed, 02 Apr 2025) EllapsedTime: 406.2 seconds RetCode: 0 Status: OK PackageFile: RNAdecay_1.26.0.tgz PackageFileSize: 5.131 MiB