Package: RNAAgeCalc Version: 1.18.0 Command: rm -rf RNAAgeCalc.buildbin-libdir && mkdir RNAAgeCalc.buildbin-libdir && F:\biocbuild\bbs-3.20-bioc\R\bin\R.exe CMD INSTALL --build --library=RNAAgeCalc.buildbin-libdir RNAAgeCalc_1.18.0.tar.gz StartedAt: 2025-04-01 09:04:00 -0400 (Tue, 01 Apr 2025) EndedAt: 2025-04-01 09:04:57 -0400 (Tue, 01 Apr 2025) EllapsedTime: 57.0 seconds RetCode: 0 Status: OK PackageFile: RNAAgeCalc_1.18.0.zip PackageFileSize: 3.427 MiB