Package: RNAAgeCalc Version: 1.18.0 Command: /home/biocbuild/bbs-3.20-bioc/R/bin/R CMD INSTALL RNAAgeCalc StartedAt: 2025-03-31 15:41:13 -0400 (Mon, 31 Mar 2025) EndedAt: 2025-03-31 15:42:02 -0400 (Mon, 31 Mar 2025) EllapsedTime: 49.0 seconds RetCode: 0 Status: OK