Package: RNAAgeCalc Version: 1.18.0 Command: /Library/Frameworks/R.framework/Resources/bin/R CMD INSTALL RNAAgeCalc StartedAt: 2025-03-31 16:03:07 -0400 (Mon, 31 Mar 2025) EndedAt: 2025-03-31 16:04:46 -0400 (Mon, 31 Mar 2025) EllapsedTime: 99.5 seconds RetCode: 0 Status: OK