Package: RNAAgeCalc Version: 1.18.0 Command: /Library/Frameworks/R.framework/Resources/bin/R CMD check --install=check:RNAAgeCalc.install-out.txt --library=/Library/Frameworks/R.framework/Resources/library --no-vignettes --timings RNAAgeCalc_1.18.0.tar.gz StartedAt: 2025-04-01 08:09:08 -0400 (Tue, 01 Apr 2025) EndedAt: 2025-04-01 08:20:22 -0400 (Tue, 01 Apr 2025) EllapsedTime: 673.9 seconds RetCode: 0 Status: OK CheckDir: RNAAgeCalc.Rcheck Warnings: 0