Package: RNAAgeCalc Version: 1.18.0 Command: /Library/Frameworks/R.framework/Resources/bin/R CMD INSTALL RNAAgeCalc StartedAt: 2025-03-31 16:59:38 -0400 (Mon, 31 Mar 2025) EndedAt: 2025-03-31 17:00:40 -0400 (Mon, 31 Mar 2025) EllapsedTime: 62.0 seconds RetCode: 0 Status: OK