Package: RNAAgeCalc Version: 1.18.0 Command: rm -rf RNAAgeCalc.buildbin-libdir && mkdir RNAAgeCalc.buildbin-libdir && /Users/biocbuild/BBS/utils/build-universal.sh RNAAgeCalc_1.18.0.tar.gz /Library/Frameworks/R.framework/Resources/bin/R RNAAgeCalc.buildbin-libdir StartedAt: 2025-04-02 16:00:27 -0400 (Wed, 02 Apr 2025) EndedAt: 2025-04-02 16:01:34 -0400 (Wed, 02 Apr 2025) EllapsedTime: 67.2 seconds RetCode: 0 Status: OK PackageFile: RNAAgeCalc_1.18.0.tgz PackageFileSize: 3.469 MiB