Package: RLassoCox Version: 1.14.0 Command: F:\biocbuild\bbs-3.20-bioc\R\bin\R.exe CMD check --no-multiarch --install=check:RLassoCox.install-out.txt --library=F:\biocbuild\bbs-3.20-bioc\R\library --no-vignettes --timings RLassoCox_1.14.0.tar.gz StartedAt: 2025-04-01 05:16:32 -0400 (Tue, 01 Apr 2025) EndedAt: 2025-04-01 05:22:26 -0400 (Tue, 01 Apr 2025) EllapsedTime: 353.5 seconds RetCode: 0 Status: OK CheckDir: RLassoCox.Rcheck Warnings: 0