Package: RLassoCox Version: 1.14.0 Command: /Library/Frameworks/R.framework/Resources/bin/R CMD build --keep-empty-dirs --no-resave-data RLassoCox StartedAt: 2025-03-31 21:27:27 -0400 (Mon, 31 Mar 2025) EndedAt: 2025-03-31 21:29:18 -0400 (Mon, 31 Mar 2025) EllapsedTime: 110.9 seconds RetCode: 0 Status: OK PackageFile: RLassoCox_1.14.0.tar.gz PackageFileSize: 1.967 MiB