Package: RLMM Version: 1.68.0 Command: F:\biocbuild\bbs-3.20-bioc\R\bin\R.exe CMD INSTALL RLMM StartedAt: 2025-03-31 15:21:40 -0400 (Mon, 31 Mar 2025) EndedAt: 2025-03-31 15:21:49 -0400 (Mon, 31 Mar 2025) EllapsedTime: 8.7 seconds RetCode: 0 Status: OK