Package: RLMM Version: 1.68.0 Command: rm -rf RLMM.buildbin-libdir && mkdir RLMM.buildbin-libdir && F:\biocbuild\bbs-3.20-bioc\R\bin\R.exe CMD INSTALL --build --library=RLMM.buildbin-libdir RLMM_1.68.0.tar.gz StartedAt: 2025-04-01 09:03:46 -0400 (Tue, 01 Apr 2025) EndedAt: 2025-04-01 09:03:58 -0400 (Tue, 01 Apr 2025) EllapsedTime: 11.5 seconds RetCode: 0 Status: OK PackageFile: RLMM_1.68.0.zip PackageFileSize: 187 KiB