Package: RLMM Version: 1.68.0 Command: /home/biocbuild/bbs-3.20-bioc/R/bin/R CMD build --keep-empty-dirs --no-resave-data --md5 RLMM StartedAt: 2025-03-31 18:49:05 -0400 (Mon, 31 Mar 2025) EndedAt: 2025-03-31 18:49:11 -0400 (Mon, 31 Mar 2025) EllapsedTime: 6.0 seconds RetCode: 0 Status: OK PackageFile: RLMM_1.68.0.tar.gz PackageFileSize: 420.6 KiB