Package: RLMM Version: 1.68.0 Command: /Library/Frameworks/R.framework/Resources/bin/R CMD check --install=check:RLMM.install-out.txt --library=/Library/Frameworks/R.framework/Resources/library --no-vignettes --timings RLMM_1.68.0.tar.gz StartedAt: 2025-04-02 06:26:09 -0400 (Wed, 02 Apr 2025) EndedAt: 2025-04-02 06:26:33 -0400 (Wed, 02 Apr 2025) EllapsedTime: 24.5 seconds RetCode: 0 Status: OK CheckDir: RLMM.Rcheck Warnings: 0