Package: RJMCMCNucleosomes Version: 1.30.0 Command: /home/biocbuild/R/R/bin/R CMD INSTALL RJMCMCNucleosomes StartedAt: 2025-03-31 20:32:21 -0000 (Mon, 31 Mar 2025) EndedAt: 2025-03-31 20:33:22 -0000 (Mon, 31 Mar 2025) EllapsedTime: 60.3 seconds RetCode: 0 Status: OK