Package: RImmPort Version: 1.34.0 Command: /home/biocbuild/R/R/bin/R CMD INSTALL RImmPort StartedAt: 2025-03-31 20:25:06 -0000 (Mon, 31 Mar 2025) EndedAt: 2025-03-31 20:25:16 -0000 (Mon, 31 Mar 2025) EllapsedTime: 10.0 seconds RetCode: 0 Status: OK