Package: RImmPort Version: 1.34.0 Command: /home/biocbuild/R/R/bin/R CMD build --keep-empty-dirs --no-resave-data RImmPort StartedAt: 2025-04-01 02:05:41 -0000 (Tue, 01 Apr 2025) EndedAt: 2025-04-01 02:06:03 -0000 (Tue, 01 Apr 2025) EllapsedTime: 22.0 seconds RetCode: 0 Status: OK PackageFile: RImmPort_1.34.0.tar.gz PackageFileSize: 2.797 MiB