Package: RImmPort Version: 1.34.0 Command: /Library/Frameworks/R.framework/Resources/bin/R CMD INSTALL RImmPort StartedAt: 2025-03-31 15:23:12 -0400 (Mon, 31 Mar 2025) EndedAt: 2025-03-31 15:23:31 -0400 (Mon, 31 Mar 2025) EllapsedTime: 19.0 seconds RetCode: 0 Status: OK