Package: RImmPort Version: 1.34.0 Command: /Library/Frameworks/R.framework/Resources/bin/R CMD check --install=check:RImmPort.install-out.txt --library=/Library/Frameworks/R.framework/Resources/library --no-vignettes --timings RImmPort_1.34.0.tar.gz StartedAt: 2025-04-01 08:06:19 -0400 (Tue, 01 Apr 2025) EndedAt: 2025-04-01 08:07:59 -0400 (Tue, 01 Apr 2025) EllapsedTime: 100.0 seconds RetCode: 0 Status: OK CheckDir: RImmPort.Rcheck Warnings: 0