Package: RImmPort Version: 1.34.0 Command: /Library/Frameworks/R.framework/Resources/bin/R CMD build --keep-empty-dirs --no-resave-data RImmPort StartedAt: 2025-03-31 21:26:52 -0400 (Mon, 31 Mar 2025) EndedAt: 2025-03-31 21:27:42 -0400 (Mon, 31 Mar 2025) EllapsedTime: 49.5 seconds RetCode: 0 Status: OK PackageFile: RImmPort_1.34.0.tar.gz PackageFileSize: 2.823 MiB