Package: RImmPort Version: 1.34.0 Command: /Library/Frameworks/R.framework/Resources/bin/R CMD INSTALL RImmPort StartedAt: 2024-11-19 15:12:40 -0500 (Tue, 19 Nov 2024) EndedAt: 2024-11-19 15:12:58 -0500 (Tue, 19 Nov 2024) EllapsedTime: 18.4 seconds RetCode: 0 Status: OK