Package: RImmPort Version: 1.34.0 Command: /Library/Frameworks/R.framework/Resources/bin/R CMD INSTALL RImmPort StartedAt: 2025-03-31 15:47:39 -0400 (Mon, 31 Mar 2025) EndedAt: 2025-03-31 15:47:47 -0400 (Mon, 31 Mar 2025) EllapsedTime: 8.8 seconds RetCode: 0 Status: OK