Package: RIVER Version: 1.30.0 Command: /home/biocbuild/bbs-3.20-bioc/R/bin/R CMD check --install=check:RIVER.install-out.txt --library=/home/biocbuild/bbs-3.20-bioc/R/site-library --timings RIVER_1.30.0.tar.gz StartedAt: 2025-04-01 01:34:23 -0400 (Tue, 01 Apr 2025) EndedAt: 2025-04-01 01:35:48 -0400 (Tue, 01 Apr 2025) EllapsedTime: 85.1 seconds RetCode: 0 Status: OK CheckDir: RIVER.Rcheck Warnings: 0