Package: RIVER Version: 1.30.0 Command: /Library/Frameworks/R.framework/Resources/bin/R CMD build --keep-empty-dirs --no-resave-data RIVER StartedAt: 2025-04-01 06:19:06 -0400 (Tue, 01 Apr 2025) EndedAt: 2025-04-01 06:19:35 -0400 (Tue, 01 Apr 2025) EllapsedTime: 28.8 seconds RetCode: 0 Status: OK PackageFile: RIVER_1.30.0.tar.gz PackageFileSize: 1.471 MiB