Package: RITAN Version: 1.30.0 Command: /home/biocbuild/R/R/bin/R CMD INSTALL RITAN StartedAt: 2025-03-31 20:38:24 -0000 (Mon, 31 Mar 2025) EndedAt: 2025-03-31 20:39:15 -0000 (Mon, 31 Mar 2025) EllapsedTime: 50.9 seconds RetCode: 0 Status: OK