Package: RITAN Version: 1.30.0 Command: rm -rf RITAN.buildbin-libdir && mkdir RITAN.buildbin-libdir && /Users/biocbuild/BBS/utils/build-universal.sh RITAN_1.30.0.tar.gz /Library/Frameworks/R.framework/Resources/bin/R RITAN.buildbin-libdir StartedAt: 2025-04-01 12:36:01 -0400 (Tue, 01 Apr 2025) EndedAt: 2025-04-01 12:37:30 -0400 (Tue, 01 Apr 2025) EllapsedTime: 88.9 seconds RetCode: 0 Status: OK PackageFile: RITAN_1.30.0.tgz PackageFileSize: 971.7 KiB