Package: RITAN Version: 1.30.0 Command: /Library/Frameworks/R.framework/Resources/bin/R CMD INSTALL RITAN StartedAt: 2025-03-31 16:22:50 -0400 (Mon, 31 Mar 2025) EndedAt: 2025-03-31 16:23:40 -0400 (Mon, 31 Mar 2025) EllapsedTime: 49.9 seconds RetCode: 0 Status: OK