Package: RITAN Version: 1.30.0 Command: /Library/Frameworks/R.framework/Resources/bin/R CMD check --install=check:RITAN.install-out.txt --library=/Library/Frameworks/R.framework/Resources/library --no-vignettes --timings RITAN_1.30.0.tar.gz StartedAt: 2025-04-02 06:18:44 -0400 (Wed, 02 Apr 2025) EndedAt: 2025-04-02 06:24:16 -0400 (Wed, 02 Apr 2025) EllapsedTime: 331.8 seconds RetCode: 0 Status: WARNINGS CheckDir: RITAN.Rcheck Warnings: 1