Package: RITAN Version: 1.30.0 Command: /Library/Frameworks/R.framework/Resources/bin/R CMD build --keep-empty-dirs --no-resave-data RITAN StartedAt: 2025-04-01 06:18:56 -0400 (Tue, 01 Apr 2025) EndedAt: 2025-04-01 06:21:19 -0400 (Tue, 01 Apr 2025) EllapsedTime: 142.5 seconds RetCode: 0 Status: OK PackageFile: RITAN_1.30.0.tar.gz PackageFileSize: 877.6 KiB