Package: RGraph2js Version: 1.34.0 Command: F:\biocbuild\bbs-3.20-bioc\R\bin\R.exe CMD INSTALL RGraph2js StartedAt: 2025-03-31 15:36:25 -0400 (Mon, 31 Mar 2025) EndedAt: 2025-03-31 15:36:39 -0400 (Mon, 31 Mar 2025) EllapsedTime: 14.5 seconds RetCode: 0 Status: OK