Package: RGSEA Version: 1.40.0 Command: /home/biocbuild/R/R/bin/R CMD INSTALL RGSEA StartedAt: 2025-03-31 20:11:18 -0000 (Mon, 31 Mar 2025) EndedAt: 2025-03-31 20:11:45 -0000 (Mon, 31 Mar 2025) EllapsedTime: 27.0 seconds RetCode: 0 Status: OK