Package: RGSEA Version: 1.40.0 Command: /home/biocbuild/R/R/bin/R CMD build --keep-empty-dirs --no-resave-data RGSEA StartedAt: 2025-04-01 02:02:22 -0000 (Tue, 01 Apr 2025) EndedAt: 2025-04-01 02:03:27 -0000 (Tue, 01 Apr 2025) EllapsedTime: 65.0 seconds RetCode: 0 Status: OK PackageFile: RGSEA_1.40.0.tar.gz PackageFileSize: 1.718 MiB