Package: RGSEA Version: 1.40.0 Command: F:\biocbuild\bbs-3.20-bioc\R\bin\R.exe CMD check --no-multiarch --install=check:RGSEA.install-out.txt --library=F:\biocbuild\bbs-3.20-bioc\R\library --no-vignettes --timings RGSEA_1.40.0.tar.gz StartedAt: 2025-04-01 05:12:39 -0400 (Tue, 01 Apr 2025) EndedAt: 2025-04-01 05:13:34 -0400 (Tue, 01 Apr 2025) EllapsedTime: 55.5 seconds RetCode: 0 Status: OK CheckDir: RGSEA.Rcheck Warnings: 0