Package: RGSEA Version: 1.40.0 Command: /Library/Frameworks/R.framework/Resources/bin/R CMD INSTALL RGSEA StartedAt: 2025-03-31 15:04:04 -0400 (Mon, 31 Mar 2025) EndedAt: 2025-03-31 15:04:21 -0400 (Mon, 31 Mar 2025) EllapsedTime: 17.9 seconds RetCode: 0 Status: OK