Package: RGMQL Version: 1.26.0 Command: /home/biocbuild/bbs-3.20-bioc/R/bin/R CMD INSTALL RGMQL StartedAt: 2024-11-19 16:02:51 -0500 (Tue, 19 Nov 2024) EndedAt: 2024-11-19 16:03:22 -0500 (Tue, 19 Nov 2024) EllapsedTime: 31.2 seconds RetCode: 0 Status: OK